BEGIN:VCALENDAR
VERSION:2.0
PRODID:-//PVADAMH - ECPv6.15.20//NONSGML v1.0//EN
CALSCALE:GREGORIAN
METHOD:PUBLISH
X-ORIGINAL-URL:https://pvadamh.org
X-WR-CALDESC:Events for PVADAMH
REFRESH-INTERVAL;VALUE=DURATION:PT1H
X-Robots-Tag:noindex
X-PUBLISHED-TTL:PT1H
BEGIN:VTIMEZONE
TZID:UTC
BEGIN:STANDARD
TZOFFSETFROM:+0000
TZOFFSETTO:+0000
TZNAME:UTC
DTSTART:20230101T000000
END:STANDARD
END:VTIMEZONE
BEGIN:VEVENT
DTSTART;VALUE=DATE:20240701
DTEND;VALUE=DATE:20240901
DTSTAMP:20260420T134338
CREATED:20240321T141302Z
LAST-MODIFIED:20240321T141302Z
UID:7236-1719792000-1725148799@pvadamh.org
SUMMARY:Summer Recess - July and August
DESCRIPTION:There will be no board meeting in July or August for a summer recess.
URL:https://pvadamh.org/event/summer-recess-july-and-august/
LOCATION:Paint Valley ADAMH Board\, 394 Chestnut St.\, Chillicothe\, OH\, 45601\, United States
END:VEVENT
END:VCALENDAR