BEGIN:VCALENDAR
VERSION:2.0
PRODID:-//PVADAMH - ECPv6.15.20//NONSGML v1.0//EN
CALSCALE:GREGORIAN
METHOD:PUBLISH
X-WR-CALNAME:PVADAMH
X-ORIGINAL-URL:https://pvadamh.org
X-WR-CALDESC:Events for PVADAMH
REFRESH-INTERVAL;VALUE=DURATION:PT1H
X-Robots-Tag:noindex
X-PUBLISHED-TTL:PT1H
BEGIN:VTIMEZONE
TZID:UTC
BEGIN:STANDARD
TZOFFSETFROM:+0000
TZOFFSETTO:+0000
TZNAME:UTC
DTSTART:20240101T000000
END:STANDARD
END:VTIMEZONE
BEGIN:VEVENT
DTSTART;TZID=UTC:20250213T180000
DTEND;TZID=UTC:20250213T190000
DTSTAMP:20260420T042154
CREATED:20250212T203257Z
LAST-MODIFIED:20250212T203257Z
UID:7505-1739469600-1739473200@pvadamh.org
SUMMARY:2/13/2025 Emergency Board Meeting
DESCRIPTION:THE PAINT VALLEY ALCOHOL\, DRUG ADDICTION AND MENTAL HEALTH SERVICES (ADAMH) BOARD WILL HOLD AN EMERGENCY MEETING ON THURSDAY\, FEBRUARY 13\, 2025\, AT ITS OFFICE AT 394 CHESTNUT STREET\, CHILLICOTHE\, OHIO  45601\, BEGINNING AT 6:00 P.M. \nTHIS EMERGENCY MEETING IS BEING HELD TO CONSIDER THE PURCHASE OF PROPERTY.  \nMELANIE SWISHER\nEXECUTIVE DIRECTOR\n394 CHESTNUT STREET\nCHILLICOTHE\, OHIO  45601\n740-773-2283
URL:https://pvadamh.org/event/2-13-2025-emergency-board-meeting/
LOCATION:OH
END:VEVENT
END:VCALENDAR