BEGIN:VCALENDAR
VERSION:2.0
PRODID:-//PVADAMH - ECPv6.15.20//NONSGML v1.0//EN
CALSCALE:GREGORIAN
METHOD:PUBLISH
X-WR-CALNAME:PVADAMH
X-ORIGINAL-URL:https://pvadamh.org
X-WR-CALDESC:Events for PVADAMH
REFRESH-INTERVAL;VALUE=DURATION:PT1H
X-Robots-Tag:noindex
X-PUBLISHED-TTL:PT1H
BEGIN:VTIMEZONE
TZID:UTC
BEGIN:STANDARD
TZOFFSETFROM:+0000
TZOFFSETTO:+0000
TZNAME:UTC
DTSTART:20240101T000000
END:STANDARD
END:VTIMEZONE
BEGIN:VEVENT
DTSTART;TZID=UTC:20250618T180000
DTEND;TZID=UTC:20250618T190000
DTSTAMP:20260419T221606
CREATED:20250225T192858Z
LAST-MODIFIED:20250605T130728Z
UID:7521-1750269600-1750273200@pvadamh.org
SUMMARY:June Board Meeting 2025
DESCRIPTION:THE PAINT VALLEY ALCOHOL\, DRUG ADDICTION AND MENTAL HEALTH SERVICES (ADAMH) BOARD WILL HOLD A PUBLIC HEARING ON WEDNESDAY\, JUNE 18\, 2025\, BEGINNING AT 6:00 P.M. THIS MEETING WILL BE HELD AT THE PAINT VALLEY ADAMH BOARD\, 394 CHESTNUT STREET\, CHILLICOTHE\, OHIO 45601.
URL:https://pvadamh.org/event/june-board-meeting-2025/
LOCATION:Paint Valley ADAMH Board\, 394 Chestnut St.\, Chillicothe\, OH\, 45601\, United States
END:VEVENT
END:VCALENDAR