BEGIN:VCALENDAR
VERSION:2.0
PRODID:-//PVADAMH - ECPv6.15.20//NONSGML v1.0//EN
CALSCALE:GREGORIAN
METHOD:PUBLISH
X-WR-CALNAME:PVADAMH
X-ORIGINAL-URL:https://pvadamh.org
X-WR-CALDESC:Events for PVADAMH
REFRESH-INTERVAL;VALUE=DURATION:PT1H
X-Robots-Tag:noindex
X-PUBLISHED-TTL:PT1H
BEGIN:VTIMEZONE
TZID:UTC
BEGIN:STANDARD
TZOFFSETFROM:+0000
TZOFFSETTO:+0000
TZNAME:UTC
DTSTART:20210101T000000
END:STANDARD
END:VTIMEZONE
BEGIN:VEVENT
DTSTART;TZID=UTC:20221214T180000
DTEND;TZID=UTC:20221214T200000
DTSTAMP:20260420T013027
CREATED:20221109T165043Z
LAST-MODIFIED:20221109T170222Z
UID:6616-1671040800-1671048000@pvadamh.org
SUMMARY:Special Contracting Meeting
DESCRIPTION:
URL:https://pvadamh.org/event/special-contracting-meeting/
LOCATION:Paint Valley ADAMH Board\, 394 Chestnut St.\, Chillicothe\, OH\, 45601\, United States
END:VEVENT
BEGIN:VEVENT
DTSTART;TZID=UTC:20221116T180000
DTEND;TZID=UTC:20221116T200000
DTSTAMP:20260420T013027
CREATED:20221109T155316Z
LAST-MODIFIED:20221109T155316Z
UID:6604-1668621600-1668628800@pvadamh.org
SUMMARY:Board Meeting
DESCRIPTION:
URL:https://pvadamh.org/event/board-meeting/
LOCATION:Paint Valley ADAMH Board\, 394 Chestnut St.\, Chillicothe\, OH\, 45601\, United States
END:VEVENT
BEGIN:VEVENT
DTSTART;TZID=UTC:20221116T171000
DTEND;TZID=UTC:20221116T180000
DTSTAMP:20260420T013027
CREATED:20221109T155218Z
LAST-MODIFIED:20221109T165147Z
UID:6602-1668618600-1668621600@pvadamh.org
SUMMARY:Special Contracting Committee Meeting
DESCRIPTION:
URL:https://pvadamh.org/event/special-contracting-committee-meeting/
LOCATION:Paint Valley ADAMH Board\, 394 Chestnut St.\, Chillicothe\, OH\, 45601\, United States
END:VEVENT
BEGIN:VEVENT
DTSTART;TZID=UTC:20221116T170000
DTEND;TZID=UTC:20221116T171000
DTSTAMP:20260420T013027
CREATED:20221109T155009Z
LAST-MODIFIED:20221109T155009Z
UID:6594-1668618000-1668618600@pvadamh.org
SUMMARY:Finance Committee Meeting
DESCRIPTION:
URL:https://pvadamh.org/event/finance-committee-meeting/
LOCATION:Paint Valley ADAMH Board\, 394 Chestnut St.\, Chillicothe\, OH\, 45601\, United States
END:VEVENT
END:VCALENDAR