BEGIN:VCALENDAR
VERSION:2.0
PRODID:-//PVADAMH - ECPv6.15.20//NONSGML v1.0//EN
CALSCALE:GREGORIAN
METHOD:PUBLISH
X-ORIGINAL-URL:https://pvadamh.org
X-WR-CALDESC:Events for PVADAMH
REFRESH-INTERVAL;VALUE=DURATION:PT1H
X-Robots-Tag:noindex
X-PUBLISHED-TTL:PT1H
BEGIN:VTIMEZONE
TZID:UTC
BEGIN:STANDARD
TZOFFSETFROM:+0000
TZOFFSETTO:+0000
TZNAME:UTC
DTSTART:20220101T000000
END:STANDARD
END:VTIMEZONE
BEGIN:VEVENT
DTSTART;TZID=UTC:20230207T080000
DTEND;TZID=UTC:20230207T163000
DTSTAMP:20260423T014126
CREATED:20221206T190310Z
LAST-MODIFIED:20221206T190310Z
UID:6632-1675756800-1675787400@pvadamh.org
SUMMARY:Mental Health First Aid Training
DESCRIPTION:
URL:https://pvadamh.org/event/mental-health-first-aid-training/
LOCATION:Pickaway County Educational Service Center\, 2050 Stone Ridge Drive\, Circleville\, OH\, 43113\, United States
END:VEVENT
END:VCALENDAR