BEGIN:VCALENDAR
VERSION:2.0
PRODID:-//PVADAMH - ECPv6.15.20//NONSGML v1.0//EN
CALSCALE:GREGORIAN
METHOD:PUBLISH
X-WR-CALNAME:PVADAMH
X-ORIGINAL-URL:https://pvadamh.org
X-WR-CALDESC:Events for PVADAMH
REFRESH-INTERVAL;VALUE=DURATION:PT1H
X-Robots-Tag:noindex
X-PUBLISHED-TTL:PT1H
BEGIN:VTIMEZONE
TZID:UTC
BEGIN:STANDARD
TZOFFSETFROM:+0000
TZOFFSETTO:+0000
TZNAME:UTC
DTSTART:20220101T000000
END:STANDARD
END:VTIMEZONE
BEGIN:VEVENT
DTSTART;TZID=UTC:20230914T173000
DTEND;TZID=UTC:20230914T203000
DTSTAMP:20260422T144135
CREATED:20230818T182620Z
LAST-MODIFIED:20230818T182717Z
UID:6829-1694712600-1694723400@pvadamh.org
SUMMARY:5th Annual Recovery Celebration
DESCRIPTION:Join us as we celebrate recovery with a dinner honoring our 2023 Advocates & Champions of the Year!
URL:https://pvadamh.org/event/5th-annual-recovery-celebration/
LOCATION:Bell Manor\, 739 Musgrove Rd\, Chillicothe\, OH\, 45601\, United States
END:VEVENT
BEGIN:VEVENT
DTSTART;TZID=UTC:20230920T180000
DTEND;TZID=UTC:20230920T190000
DTSTAMP:20260422T144135
CREATED:20230418T182613Z
LAST-MODIFIED:20230418T182613Z
UID:6722-1695232800-1695236400@pvadamh.org
SUMMARY:September Board Meeting 2023
DESCRIPTION:
URL:https://pvadamh.org/event/september-board-meeting-2023/
LOCATION:Paint Valley ADAMH Board\, 394 Chestnut St.\, Chillicothe\, OH\, 45601\, United States
END:VEVENT
END:VCALENDAR